BEGIN:VCALENDAR
PRODID:-//github.com/ical-org/ical.net//NONSGML ical.net 4.0//EN
VERSION:2.0
BEGIN:VEVENT
DTEND:20251012T150000Z
DTSTAMP:20260421T103442Z
DTSTART:20251012T130000Z
GEO:46.984768;16.673827
LOCATION:Szarvaskendi Soccer Field\nSzarvaskend\, Mező u. 6
SEQUENCE:0
SUMMARY:Szarvaskend SE - MVD-Szig Söpte Sport Egyesület
UID:0d92e649-9e34-4317-b0f9-a37f4e0e15cb
END:VEVENT
END:VCALENDAR
